BEGIN:VCALENDAR
VERSION:2.0
CALSCALE:GREGORIAN
PRODID:-//Diputació de Barcelona//DibaCMS//EN
BEGIN:VEVENT
UID:15852
DTSTAMP:20260421T183157
DTSTART:20260424T190000
DTEND:20260424T200000
SUMMARY:Lliurament de premis i exposició del 4t Concurs de poesia visual Benvist
LOCATION:c. de Castelló de la Plana, 11 08186   Lliçà d'Amunt
METHOD:PUBLISH
X-WR-CALNAME:ajuntament@llicamunt.cat
X-WR-TIMEZONE:Europe/Madrid
DESCRIPTION:
URI:https://www.llicamunt.cat/actualitat/agenda/lliurament-de-premis-i-exposicio-del-4t-concurs-de-poesia-visual-benvist.html
CLASS:PUBLIC
END:VEVENT
END:VCALENDAR
