BEGIN:VCALENDAR
VERSION:2.0
CALSCALE:GREGORIAN
PRODID:-//Diputació de Barcelona//DibaCMS//EN
BEGIN:VEVENT
UID:15870
DTSTAMP:20260425T233555
DTSTART:20260425T163000
DTEND:20260426T190000
SUMMARY:Festivitat de Sant Jordi
LOCATION:Carrer de l'Aliança i Ateneu L'Aliança 
METHOD:PUBLISH
X-WR-CALNAME:ajuntament@llicamunt.cat
X-WR-TIMEZONE:Europe/Madrid
DESCRIPTION:
URI:https://www.llicamunt.cat/actualitat/agenda/15870-festivitat-de-sant-jordi.html
CLASS:PUBLIC
END:VEVENT
END:VCALENDAR
