BEGIN:VCALENDAR
VERSION:2.0
CALSCALE:GREGORIAN
PRODID:-//Diputació de Barcelona//DibaCMS//EN
BEGIN:VEVENT
UID:15871
DTSTAMP:20260421T182905
DTSTART:20260427T170000
DTEND:20260427T183000
SUMMARY:Espai literari familiar "El binomi fantàstic" 
LOCATION:c. de Castelló de la Plana, 11 08186   Lliçà d'Amunt
METHOD:PUBLISH
X-WR-CALNAME:ajuntament@llicamunt.cat
X-WR-TIMEZONE:Europe/Madrid
DESCRIPTION:
URI:https://www.llicamunt.cat/actualitat/agenda/15871-espai-literari-familiar-el-binomi-fantastic-.html
CLASS:PUBLIC
END:VEVENT
END:VCALENDAR
