BEGIN:VCALENDAR
VERSION:2.0
CALSCALE:GREGORIAN
PRODID:-//Diputació de Barcelona//DibaCMS//EN
BEGIN:VEVENT
UID:15877
DTSTAMP:20260425T025911
DTSTART:20260516T090000
DTEND:20260516T130000
SUMMARY:5a Caminada-cursa popular "Camins i senders de Lliçà d’Amunt. Caminar i córrer" 
LOCATION:c. de Jaume I, 30 08186   Lliçà d'Amunt
METHOD:PUBLISH
X-WR-CALNAME:ajuntament@llicamunt.cat
X-WR-TIMEZONE:Europe/Madrid
DESCRIPTION:
URI:https://www.llicamunt.cat/actualitat/agenda/5a-caminada-cursa-popular-camins-i-senders-de-llica-damunt-caminar-i-correr-.html
CLASS:PUBLIC
END:VEVENT
END:VCALENDAR
