BEGIN:VCALENDAR
VERSION:2.0
CALSCALE:GREGORIAN
PRODID:-//Diputació de Barcelona//DibaCMS//EN
BEGIN:VEVENT
UID:15884
DTSTAMP:20260424T064424
DTSTART:20260519T163000
DTEND:20260519T193000
SUMMARY:Portes obertes del Centre de Formació d'Adults de la Vall del Tenes
LOCATION:c. de Jaume I, 32 08186 Lliçà d'Amunt
METHOD:PUBLISH
X-WR-CALNAME:ajuntament@llicamunt.cat
X-WR-TIMEZONE:Europe/Madrid
DESCRIPTION:
URI:https://www.llicamunt.cat/actualitat/agenda/portes-obertes-del-centre-de-formacio-dadults-de-la-vall-del-tenes.html
CLASS:PUBLIC
END:VEVENT
END:VCALENDAR
