BEGIN:VCALENDAR
VERSION:2.0
CALSCALE:GREGORIAN
PRODID:-//Diputació de Barcelona//DibaCMS//EN
BEGIN:VEVENT
UID:15887
DTSTAMP:20260425T234125
DTSTART:20260505T171500
DTEND:20260506T171500
SUMMARY:Portes obertes de l'Escola de Música La Vall del Tenes
LOCATION:Carrer de Folch i Torres, 117  08186   Lliçà d'Amunt
METHOD:PUBLISH
X-WR-CALNAME:ajuntament@llicamunt.cat
X-WR-TIMEZONE:Europe/Madrid
DESCRIPTION:
URI:https://www.llicamunt.cat/actualitat/agenda/portes-obertes-de-lescola-de-musica-la-vall-del-tenes.html
CLASS:PUBLIC
END:VEVENT
END:VCALENDAR
