BEGIN:VCALENDAR
VERSION:2.0
CALSCALE:GREGORIAN
PRODID:-//Diputació de Barcelona//DibaCMS//EN
BEGIN:VEVENT
UID:15890
DTSTAMP:20260425T220833
DTSTART:20260513T093000
DTEND:20260513T130000
SUMMARY:SEOVT - Speed Dating Talent Jove 
LOCATION:TAP Bigues i Riells del Fai 
METHOD:PUBLISH
X-WR-CALNAME:ajuntament@llicamunt.cat
X-WR-TIMEZONE:Europe/Madrid
DESCRIPTION:
URI:https://www.llicamunt.cat/actualitat/agenda/seovt-speed-dating-talent-jove-.html
CLASS:PUBLIC
END:VEVENT
END:VCALENDAR
