BEGIN:VCALENDAR
VERSION:2.0
CALSCALE:GREGORIAN
PRODID:-//Diputació de Barcelona//DibaCMS//EN
BEGIN:VEVENT
UID:9341
DTSTAMP:20260424T154800
DTSTART:20190227T093000
DTEND:20190227T123000
SUMMARY:Jornada Informativa sobre La Figura de l’àutònom/a
LOCATION:Plaça de la Vila, s/n, 2a planta 08186 Lliçà de Vall
METHOD:PUBLISH
X-WR-CALNAME:ajuntament@llicamunt.cat
X-WR-TIMEZONE:Europe/Madrid
DESCRIPTION:
URI:https://www.llicamunt.cat/actualitat/agenda/jornada-informativa-sobre-la-figura-de-lautonoma.html
CLASS:PUBLIC
END:VEVENT
END:VCALENDAR
